BEGIN:VCALENDAR
VERSION:2.0
PRODID:-//Lyracle - ECPv5.7.0//NONSGML v1.0//EN
CALSCALE:GREGORIAN
METHOD:PUBLISH
X-WR-CALNAME:Lyracle
X-ORIGINAL-URL:https://www.lyraclemusic.com
X-WR-CALDESC:Events for Lyracle
BEGIN:VTIMEZONE
TZID:UTC
BEGIN:STANDARD
TZOFFSETFROM:+0000
TZOFFSETTO:+0000
TZNAME:UTC
DTSTART:20250101T000000
END:STANDARD
END:VTIMEZONE
BEGIN:VEVENT
DTSTART;VALUE=DATE:20250112
DTEND;VALUE=DATE:20250113
DTSTAMP:20260421T124656
CREATED:20241205T203129Z
LAST-MODIFIED:20241205T203150Z
UID:835-1736640000-1736726399@www.lyraclemusic.com
SUMMARY:Musical Coachings at the University of Michigan
DESCRIPTION:Lyracle Co-Artistic Directors Ashley Mulcahy & James Perretta will coach voice majors a the University of Michigan on select arias composed before 1750. \nMore information forthcoming.
URL:https://www.lyraclemusic.com/event/musical-coachings-at-the-u-of-michigan/
LOCATION:University of Michigan School of Music\, 1100 Baits Dr.\, Ann Arbor\, MI\, 48109
END:VEVENT
END:VCALENDAR