BEGIN:VCALENDAR
VERSION:2.0
PRODID:-//Lyracle - ECPv5.7.0//NONSGML v1.0//EN
CALSCALE:GREGORIAN
METHOD:PUBLISH
X-WR-CALNAME:Lyracle
X-ORIGINAL-URL:https://www.lyraclemusic.com
X-WR-CALDESC:Events for Lyracle
BEGIN:VTIMEZONE
TZID:UTC
BEGIN:STANDARD
TZOFFSETFROM:+0000
TZOFFSETTO:+0000
TZNAME:UTC
DTSTART:20260101T000000
END:STANDARD
END:VTIMEZONE
BEGIN:VEVENT
DTSTART;TZID=UTC:20260419T150000
DTEND;TZID=UTC:20260419T163000
DTSTAMP:20260419T144416
CREATED:20250830T013715Z
LAST-MODIFIED:20260302T123221Z
UID:1026-1776610800-1776616200@www.lyraclemusic.com
SUMMARY:The Family Band
DESCRIPTION:Lyracle’s Spring 2026 concert brings you 400 year-old music that connects the 17th and 21st centuries through the timeless theme of family relationships. We imagine a musical afternoon in a fairy-tale worthy German castle spent with the immensely talented Sophie Elisabeth\, August II\, and their six children. Join us to explore the role that music played in one 17th century family’s learning from and caring for each other through a program featuring music that they composed together. Several of these pieces are from unpublished manuscripts in Sophie Elisabeth’s hand\, and to the best of our knowledge\, our performance will mark their modern-day premiere! \nA Community Sing & Play will immediately follow the concert for those who wish to participate. Stick around for tea and cookies and join the Lyracle musicians to sing/play through a few short pieces composed during Sophie Elisabeth’s lifetime. All voices\, instruments\, and levels welcome. \nPerformers\nAshley Mulcahy\, mezzo-soprano\nJames Perretta\, viol\,\nKaren Burciaga\, viol\nJudah Coffman\, viol\nGuinevere Fridley\, viol \nTickets: https://events.humanitix.com/the-family-band-6khzvpnw \nThis program is supported in part by a grant from the Quincy Arts Council\, a local agency\, which is supported by the Massachusetts Cultural Council\, a state agency.
URL:https://www.lyraclemusic.com/event/the-family-band/
LOCATION:United First Parish Church\, 1306 Hancock St\, Quincy\, MA\, 02169\, United States
END:VEVENT
END:VCALENDAR